BEGIN:VCALENDAR
VERSION:2.0
PRODID:-//Microsoft Corporation//Outlook 15.0 MIMEDIR//EN
METHOD:PUBLISH
BEGIN:VEVENT
DTEND:20260902T193000EEST
DTSTAMP:20260420T170658Z
ORGANIZER;CN="Helsingin seudun kesäyliopisto":MAILTO:info@hsky.fi
DTSTART:20260902T180000EEST
SUMMARY:Viron keskustelukurssi, syksy
UID:20260902T180000EEST-23114@opistopalvelut.fi
END:VEVENT
BEGIN:VEVENT
DTEND:20260909T193000EEST
DTSTAMP:20260420T170658Z
ORGANIZER;CN="Helsingin seudun kesäyliopisto":MAILTO:info@hsky.fi
DTSTART:20260909T180000EEST
SUMMARY:Viron keskustelukurssi, syksy
UID:20260909T180000EEST-23114@opistopalvelut.fi
END:VEVENT
BEGIN:VEVENT
DTEND:20260916T193000EEST
DTSTAMP:20260420T170658Z
ORGANIZER;CN="Helsingin seudun kesäyliopisto":MAILTO:info@hsky.fi
DTSTART:20260916T180000EEST
SUMMARY:Viron keskustelukurssi, syksy
UID:20260916T180000EEST-23114@opistopalvelut.fi
END:VEVENT
BEGIN:VEVENT
DTEND:20260923T193000EEST
DTSTAMP:20260420T170658Z
ORGANIZER;CN="Helsingin seudun kesäyliopisto":MAILTO:info@hsky.fi
DTSTART:20260923T180000EEST
SUMMARY:Viron keskustelukurssi, syksy
UID:20260923T180000EEST-23114@opistopalvelut.fi
END:VEVENT
BEGIN:VEVENT
DTEND:20260930T193000EEST
DTSTAMP:20260420T170658Z
ORGANIZER;CN="Helsingin seudun kesäyliopisto":MAILTO:info@hsky.fi
DTSTART:20260930T180000EEST
SUMMARY:Viron keskustelukurssi, syksy
UID:20260930T180000EEST-23114@opistopalvelut.fi
END:VEVENT
BEGIN:VEVENT
DTEND:20261007T193000EEST
DTSTAMP:20260420T170658Z
ORGANIZER;CN="Helsingin seudun kesäyliopisto":MAILTO:info@hsky.fi
DTSTART:20261007T180000EEST
SUMMARY:Viron keskustelukurssi, syksy
UID:20261007T180000EEST-23114@opistopalvelut.fi
END:VEVENT
BEGIN:VEVENT
DTEND:20261021T193000EEST
DTSTAMP:20260420T170658Z
ORGANIZER;CN="Helsingin seudun kesäyliopisto":MAILTO:info@hsky.fi
DTSTART:20261021T180000EEST
SUMMARY:Viron keskustelukurssi, syksy
UID:20261021T180000EEST-23114@opistopalvelut.fi
END:VEVENT
BEGIN:VEVENT
DTEND:20261028T193000EET
DTSTAMP:20260420T170658Z
ORGANIZER;CN="Helsingin seudun kesäyliopisto":MAILTO:info@hsky.fi
DTSTART:20261028T180000EET
SUMMARY:Viron keskustelukurssi, syksy
UID:20261028T180000EET-23114@opistopalvelut.fi
END:VEVENT
BEGIN:VEVENT
DTEND:20261104T193000EET
DTSTAMP:20260420T170658Z
ORGANIZER;CN="Helsingin seudun kesäyliopisto":MAILTO:info@hsky.fi
DTSTART:20261104T180000EET
SUMMARY:Viron keskustelukurssi, syksy
UID:20261104T180000EET-23114@opistopalvelut.fi
END:VEVENT
BEGIN:VEVENT
DTEND:20261111T193000EET
DTSTAMP:20260420T170658Z
ORGANIZER;CN="Helsingin seudun kesäyliopisto":MAILTO:info@hsky.fi
DTSTART:20261111T180000EET
SUMMARY:Viron keskustelukurssi, syksy
UID:20261111T180000EET-23114@opistopalvelut.fi
END:VEVENT
BEGIN:VEVENT
DTEND:20261118T193000EET
DTSTAMP:20260420T170658Z
ORGANIZER;CN="Helsingin seudun kesäyliopisto":MAILTO:info@hsky.fi
DTSTART:20261118T180000EET
SUMMARY:Viron keskustelukurssi, syksy
UID:20261118T180000EET-23114@opistopalvelut.fi
END:VEVENT
BEGIN:VEVENT
DTEND:20261125T193000EET
DTSTAMP:20260420T170658Z
ORGANIZER;CN="Helsingin seudun kesäyliopisto":MAILTO:info@hsky.fi
DTSTART:20261125T180000EET
SUMMARY:Viron keskustelukurssi, syksy
UID:20261125T180000EET-23114@opistopalvelut.fi
END:VEVENT
END:VCALENDAR
