BEGIN:VCALENDAR
VERSION:2.0
PRODID:-//Microsoft Corporation//Outlook 15.0 MIMEDIR//EN
METHOD:PUBLISH
BEGIN:VEVENT
DTEND:20260811T103000EEST
DTSTAMP:20260419T151013Z
ORGANIZER;CN="Helsingin seudun kesäyliopisto":MAILTO:info@hsky.fi
DTSTART:20260811T090000EEST
SUMMARY:Latinan ohjattua tekstinlukua
UID:20260811T090000EEST-23107@opistopalvelut.fi
END:VEVENT
BEGIN:VEVENT
DTEND:20260813T103000EEST
DTSTAMP:20260419T151013Z
ORGANIZER;CN="Helsingin seudun kesäyliopisto":MAILTO:info@hsky.fi
DTSTART:20260813T090000EEST
SUMMARY:Latinan ohjattua tekstinlukua
UID:20260813T090000EEST-23107@opistopalvelut.fi
END:VEVENT
BEGIN:VEVENT
DTEND:20260818T103000EEST
DTSTAMP:20260419T151013Z
ORGANIZER;CN="Helsingin seudun kesäyliopisto":MAILTO:info@hsky.fi
DTSTART:20260818T090000EEST
SUMMARY:Latinan ohjattua tekstinlukua
UID:20260818T090000EEST-23107@opistopalvelut.fi
END:VEVENT
BEGIN:VEVENT
DTEND:20260820T103000EEST
DTSTAMP:20260419T151013Z
ORGANIZER;CN="Helsingin seudun kesäyliopisto":MAILTO:info@hsky.fi
DTSTART:20260820T090000EEST
SUMMARY:Latinan ohjattua tekstinlukua
UID:20260820T090000EEST-23107@opistopalvelut.fi
END:VEVENT
BEGIN:VEVENT
DTEND:20260825T103000EEST
DTSTAMP:20260419T151013Z
ORGANIZER;CN="Helsingin seudun kesäyliopisto":MAILTO:info@hsky.fi
DTSTART:20260825T090000EEST
SUMMARY:Latinan ohjattua tekstinlukua
UID:20260825T090000EEST-23107@opistopalvelut.fi
END:VEVENT
BEGIN:VEVENT
DTEND:20260827T103000EEST
DTSTAMP:20260419T151013Z
ORGANIZER;CN="Helsingin seudun kesäyliopisto":MAILTO:info@hsky.fi
DTSTART:20260827T090000EEST
SUMMARY:Latinan ohjattua tekstinlukua
UID:20260827T090000EEST-23107@opistopalvelut.fi
END:VEVENT
BEGIN:VEVENT
DTEND:20260901T103000EEST
DTSTAMP:20260419T151013Z
ORGANIZER;CN="Helsingin seudun kesäyliopisto":MAILTO:info@hsky.fi
DTSTART:20260901T090000EEST
SUMMARY:Latinan ohjattua tekstinlukua
UID:20260901T090000EEST-23107@opistopalvelut.fi
END:VEVENT
BEGIN:VEVENT
DTEND:20260903T103000EEST
DTSTAMP:20260419T151013Z
ORGANIZER;CN="Helsingin seudun kesäyliopisto":MAILTO:info@hsky.fi
DTSTART:20260903T090000EEST
SUMMARY:Latinan ohjattua tekstinlukua
UID:20260903T090000EEST-23107@opistopalvelut.fi
END:VEVENT
BEGIN:VEVENT
DTEND:20260909T103000EEST
DTSTAMP:20260419T151013Z
ORGANIZER;CN="Helsingin seudun kesäyliopisto":MAILTO:info@hsky.fi
DTSTART:20260909T090000EEST
SUMMARY:Latinan ohjattua tekstinlukua
UID:20260909T090000EEST-23107@opistopalvelut.fi
END:VEVENT
BEGIN:VEVENT
DTEND:20260911T103000EEST
DTSTAMP:20260419T151013Z
ORGANIZER;CN="Helsingin seudun kesäyliopisto":MAILTO:info@hsky.fi
DTSTART:20260911T090000EEST
SUMMARY:Latinan ohjattua tekstinlukua
UID:20260911T090000EEST-23107@opistopalvelut.fi
END:VEVENT
BEGIN:VEVENT
DTEND:20260916T103000EEST
DTSTAMP:20260419T151013Z
ORGANIZER;CN="Helsingin seudun kesäyliopisto":MAILTO:info@hsky.fi
DTSTART:20260916T090000EEST
SUMMARY:Latinan ohjattua tekstinlukua
UID:20260916T090000EEST-23107@opistopalvelut.fi
END:VEVENT
BEGIN:VEVENT
DTEND:20260918T103000EEST
DTSTAMP:20260419T151013Z
ORGANIZER;CN="Helsingin seudun kesäyliopisto":MAILTO:info@hsky.fi
DTSTART:20260918T090000EEST
SUMMARY:Latinan ohjattua tekstinlukua
UID:20260918T090000EEST-23107@opistopalvelut.fi
END:VEVENT
END:VCALENDAR
