BEGIN:VCALENDAR
VERSION:2.0
PRODID:-//Microsoft Corporation//Outlook 15.0 MIMEDIR//EN
METHOD:PUBLISH
BEGIN:VEVENT
DTEND:20260521T193000EEST
DTSTAMP:20260424T161005Z
ORGANIZER;CN="Helsingin seudun kesäyliopisto":MAILTO:info@hsky.fi
DTSTART:20260521T173000EEST
SUMMARY:Guasha itsehoitona: Hehkua ja helpotusta arkeen
UID:20260521T173000EEST-22722@opistopalvelut.fi
END:VEVENT
BEGIN:VEVENT
DTEND:20260528T193000EEST
DTSTAMP:20260424T161005Z
ORGANIZER;CN="Helsingin seudun kesäyliopisto":MAILTO:info@hsky.fi
DTSTART:20260528T173000EEST
SUMMARY:Guasha itsehoitona: Hehkua ja helpotusta arkeen
UID:20260528T173000EEST-22722@opistopalvelut.fi
END:VEVENT
BEGIN:VEVENT
DTEND:20260604T193000EEST
DTSTAMP:20260424T161005Z
ORGANIZER;CN="Helsingin seudun kesäyliopisto":MAILTO:info@hsky.fi
DTSTART:20260604T173000EEST
SUMMARY:Guasha itsehoitona: Hehkua ja helpotusta arkeen
UID:20260604T173000EEST-22722@opistopalvelut.fi
END:VEVENT
END:VCALENDAR
