BEGIN:VCALENDAR
VERSION:2.0
PRODID:-//Microsoft Corporation//Outlook 15.0 MIMEDIR//EN
METHOD:PUBLISH
BEGIN:VEVENT
DTEND:20260720T201500EEST
DTSTAMP:20260421T184523Z
ORGANIZER;CN="Helsingin seudun kesäyliopisto":MAILTO:info@hsky.fi
DTSTART:20260720T170000EEST
SUMMARY:Diskutera mera
UID:20260720T170000EEST-22658@opistopalvelut.fi
END:VEVENT
BEGIN:VEVENT
DTEND:20260721T201500EEST
DTSTAMP:20260421T184523Z
ORGANIZER;CN="Helsingin seudun kesäyliopisto":MAILTO:info@hsky.fi
DTSTART:20260721T170000EEST
SUMMARY:Diskutera mera
UID:20260721T170000EEST-22658@opistopalvelut.fi
END:VEVENT
BEGIN:VEVENT
DTEND:20260722T201500EEST
DTSTAMP:20260421T184523Z
ORGANIZER;CN="Helsingin seudun kesäyliopisto":MAILTO:info@hsky.fi
DTSTART:20260722T170000EEST
SUMMARY:Diskutera mera
UID:20260722T170000EEST-22658@opistopalvelut.fi
END:VEVENT
BEGIN:VEVENT
DTEND:20260723T201500EEST
DTSTAMP:20260421T184523Z
ORGANIZER;CN="Helsingin seudun kesäyliopisto":MAILTO:info@hsky.fi
DTSTART:20260723T170000EEST
SUMMARY:Diskutera mera
UID:20260723T170000EEST-22658@opistopalvelut.fi
END:VEVENT
BEGIN:VEVENT
DTEND:20260724T201500EEST
DTSTAMP:20260421T184523Z
ORGANIZER;CN="Helsingin seudun kesäyliopisto":MAILTO:info@hsky.fi
DTSTART:20260724T170000EEST
SUMMARY:Diskutera mera
UID:20260724T170000EEST-22658@opistopalvelut.fi
END:VEVENT
END:VCALENDAR
