BEGIN:VCALENDAR
VERSION:2.0
PRODID:-//Microsoft Corporation//Outlook 15.0 MIMEDIR//EN
METHOD:PUBLISH
BEGIN:VEVENT
DTEND:20260504T180000EEST
DTSTAMP:20260422T041543Z
ORGANIZER;CN="Helsingin seudun kesäyliopisto":MAILTO:info@hsky.fi
DTSTART:20260504T163000EEST
SUMMARY:Venäjän alkeiskurssi 1, ryhmä B, 4 op
UID:20260504T163000EEST-22651@opistopalvelut.fi
END:VEVENT
BEGIN:VEVENT
DTEND:20260505T180000EEST
DTSTAMP:20260422T041543Z
ORGANIZER;CN="Helsingin seudun kesäyliopisto":MAILTO:info@hsky.fi
DTSTART:20260505T163000EEST
SUMMARY:Venäjän alkeiskurssi 1, ryhmä B, 4 op
UID:20260505T163000EEST-22651@opistopalvelut.fi
END:VEVENT
BEGIN:VEVENT
DTEND:20260507T180000EEST
DTSTAMP:20260422T041543Z
ORGANIZER;CN="Helsingin seudun kesäyliopisto":MAILTO:info@hsky.fi
DTSTART:20260507T163000EEST
SUMMARY:Venäjän alkeiskurssi 1, ryhmä B, 4 op
UID:20260507T163000EEST-22651@opistopalvelut.fi
END:VEVENT
BEGIN:VEVENT
DTEND:20260511T180000EEST
DTSTAMP:20260422T041543Z
ORGANIZER;CN="Helsingin seudun kesäyliopisto":MAILTO:info@hsky.fi
DTSTART:20260511T163000EEST
SUMMARY:Venäjän alkeiskurssi 1, ryhmä B, 4 op
UID:20260511T163000EEST-22651@opistopalvelut.fi
END:VEVENT
BEGIN:VEVENT
DTEND:20260512T180000EEST
DTSTAMP:20260422T041543Z
ORGANIZER;CN="Helsingin seudun kesäyliopisto":MAILTO:info@hsky.fi
DTSTART:20260512T163000EEST
SUMMARY:Venäjän alkeiskurssi 1, ryhmä B, 4 op
UID:20260512T163000EEST-22651@opistopalvelut.fi
END:VEVENT
BEGIN:VEVENT
DTEND:20260518T180000EEST
DTSTAMP:20260422T041543Z
ORGANIZER;CN="Helsingin seudun kesäyliopisto":MAILTO:info@hsky.fi
DTSTART:20260518T163000EEST
SUMMARY:Venäjän alkeiskurssi 1, ryhmä B, 4 op
UID:20260518T163000EEST-22651@opistopalvelut.fi
END:VEVENT
BEGIN:VEVENT
DTEND:20260519T180000EEST
DTSTAMP:20260422T041543Z
ORGANIZER;CN="Helsingin seudun kesäyliopisto":MAILTO:info@hsky.fi
DTSTART:20260519T163000EEST
SUMMARY:Venäjän alkeiskurssi 1, ryhmä B, 4 op
UID:20260519T163000EEST-22651@opistopalvelut.fi
END:VEVENT
BEGIN:VEVENT
DTEND:20260521T180000EEST
DTSTAMP:20260422T041543Z
ORGANIZER;CN="Helsingin seudun kesäyliopisto":MAILTO:info@hsky.fi
DTSTART:20260521T163000EEST
SUMMARY:Venäjän alkeiskurssi 1, ryhmä B, 4 op
UID:20260521T163000EEST-22651@opistopalvelut.fi
END:VEVENT
BEGIN:VEVENT
DTEND:20260525T180000EEST
DTSTAMP:20260422T041543Z
ORGANIZER;CN="Helsingin seudun kesäyliopisto":MAILTO:info@hsky.fi
DTSTART:20260525T163000EEST
SUMMARY:Venäjän alkeiskurssi 1, ryhmä B, 4 op
UID:20260525T163000EEST-22651@opistopalvelut.fi
END:VEVENT
BEGIN:VEVENT
DTEND:20260526T180000EEST
DTSTAMP:20260422T041543Z
ORGANIZER;CN="Helsingin seudun kesäyliopisto":MAILTO:info@hsky.fi
DTSTART:20260526T163000EEST
SUMMARY:Venäjän alkeiskurssi 1, ryhmä B, 4 op
UID:20260526T163000EEST-22651@opistopalvelut.fi
END:VEVENT
BEGIN:VEVENT
DTEND:20260528T180000EEST
DTSTAMP:20260422T041543Z
ORGANIZER;CN="Helsingin seudun kesäyliopisto":MAILTO:info@hsky.fi
DTSTART:20260528T163000EEST
SUMMARY:Venäjän alkeiskurssi 1, ryhmä B, 4 op
UID:20260528T163000EEST-22651@opistopalvelut.fi
END:VEVENT
BEGIN:VEVENT
DTEND:20260601T180000EEST
DTSTAMP:20260422T041543Z
ORGANIZER;CN="Helsingin seudun kesäyliopisto":MAILTO:info@hsky.fi
DTSTART:20260601T163000EEST
SUMMARY:Venäjän alkeiskurssi 1, ryhmä B, 4 op
UID:20260601T163000EEST-22651@opistopalvelut.fi
END:VEVENT
BEGIN:VEVENT
DTEND:20260602T180000EEST
DTSTAMP:20260422T041543Z
ORGANIZER;CN="Helsingin seudun kesäyliopisto":MAILTO:info@hsky.fi
DTSTART:20260602T163000EEST
SUMMARY:Venäjän alkeiskurssi 1, ryhmä B, 4 op
UID:20260602T163000EEST-22651@opistopalvelut.fi
END:VEVENT
BEGIN:VEVENT
DTEND:20260604T180000EEST
DTSTAMP:20260422T041543Z
ORGANIZER;CN="Helsingin seudun kesäyliopisto":MAILTO:info@hsky.fi
DTSTART:20260604T163000EEST
SUMMARY:Venäjän alkeiskurssi 1, ryhmä B, 4 op
UID:20260604T163000EEST-22651@opistopalvelut.fi
END:VEVENT
BEGIN:VEVENT
DTEND:20260608T180000EEST
DTSTAMP:20260422T041543Z
ORGANIZER;CN="Helsingin seudun kesäyliopisto":MAILTO:info@hsky.fi
DTSTART:20260608T163000EEST
SUMMARY:Venäjän alkeiskurssi 1, ryhmä B, 4 op
UID:20260608T163000EEST-22651@opistopalvelut.fi
END:VEVENT
BEGIN:VEVENT
DTEND:20260609T180000EEST
DTSTAMP:20260422T041543Z
ORGANIZER;CN="Helsingin seudun kesäyliopisto":MAILTO:info@hsky.fi
DTSTART:20260609T163000EEST
SUMMARY:Venäjän alkeiskurssi 1, ryhmä B, 4 op
UID:20260609T163000EEST-22651@opistopalvelut.fi
END:VEVENT
BEGIN:VEVENT
DTEND:20260611T180000EEST
DTSTAMP:20260422T041543Z
ORGANIZER;CN="Helsingin seudun kesäyliopisto":MAILTO:info@hsky.fi
DTSTART:20260611T163000EEST
SUMMARY:Venäjän alkeiskurssi 1, ryhmä B, 4 op
UID:20260611T163000EEST-22651@opistopalvelut.fi
END:VEVENT
BEGIN:VEVENT
DTEND:20260615T180000EEST
DTSTAMP:20260422T041543Z
ORGANIZER;CN="Helsingin seudun kesäyliopisto":MAILTO:info@hsky.fi
DTSTART:20260615T163000EEST
SUMMARY:Venäjän alkeiskurssi 1, ryhmä B, 4 op
UID:20260615T163000EEST-22651@opistopalvelut.fi
END:VEVENT
BEGIN:VEVENT
DTEND:20260616T180000EEST
DTSTAMP:20260422T041543Z
ORGANIZER;CN="Helsingin seudun kesäyliopisto":MAILTO:info@hsky.fi
DTSTART:20260616T163000EEST
SUMMARY:Venäjän alkeiskurssi 1, ryhmä B, 4 op
UID:20260616T163000EEST-22651@opistopalvelut.fi
END:VEVENT
BEGIN:VEVENT
DTEND:20260618T180000EEST
DTSTAMP:20260422T041543Z
ORGANIZER;CN="Helsingin seudun kesäyliopisto":MAILTO:info@hsky.fi
DTSTART:20260618T163000EEST
SUMMARY:Venäjän alkeiskurssi 1, ryhmä B, 4 op
UID:20260618T163000EEST-22651@opistopalvelut.fi
END:VEVENT
BEGIN:VEVENT
DTEND:20260622T180000EEST
DTSTAMP:20260422T041543Z
ORGANIZER;CN="Helsingin seudun kesäyliopisto":MAILTO:info@hsky.fi
DTSTART:20260622T163000EEST
SUMMARY:Venäjän alkeiskurssi 1, ryhmä B, 4 op
UID:20260622T163000EEST-22651@opistopalvelut.fi
END:VEVENT
BEGIN:VEVENT
DTEND:20260623T180000EEST
DTSTAMP:20260422T041543Z
ORGANIZER;CN="Helsingin seudun kesäyliopisto":MAILTO:info@hsky.fi
DTSTART:20260623T163000EEST
SUMMARY:Venäjän alkeiskurssi 1, ryhmä B, 4 op
UID:20260623T163000EEST-22651@opistopalvelut.fi
END:VEVENT
BEGIN:VEVENT
DTEND:20260625T180000EEST
DTSTAMP:20260422T041543Z
ORGANIZER;CN="Helsingin seudun kesäyliopisto":MAILTO:info@hsky.fi
DTSTART:20260625T163000EEST
SUMMARY:Venäjän alkeiskurssi 1, ryhmä B, 4 op
UID:20260625T163000EEST-22651@opistopalvelut.fi
END:VEVENT
BEGIN:VEVENT
DTEND:20260629T180000EEST
DTSTAMP:20260422T041543Z
ORGANIZER;CN="Helsingin seudun kesäyliopisto":MAILTO:info@hsky.fi
DTSTART:20260629T163000EEST
SUMMARY:Venäjän alkeiskurssi 1, ryhmä B, 4 op
UID:20260629T163000EEST-22651@opistopalvelut.fi
END:VEVENT
END:VCALENDAR
