BEGIN:VCALENDAR
VERSION:2.0
PRODID:-//Microsoft Corporation//Outlook 15.0 MIMEDIR//EN
METHOD:PUBLISH
BEGIN:VEVENT
DTEND:20260824T210000EEST
DTSTAMP:20260421T142750Z
ORGANIZER;CN="Helsingin seudun kesäyliopisto":MAILTO:info@hsky.fi
DTSTART:20260824T170000EEST
SUMMARY:Swedish 7 (1 op)
UID:20260824T170000EEST-22626@opistopalvelut.fi
END:VEVENT
BEGIN:VEVENT
DTEND:20260825T210000EEST
DTSTAMP:20260421T142750Z
ORGANIZER;CN="Helsingin seudun kesäyliopisto":MAILTO:info@hsky.fi
DTSTART:20260825T170000EEST
SUMMARY:Swedish 7 (1 op)
UID:20260825T170000EEST-22626@opistopalvelut.fi
END:VEVENT
BEGIN:VEVENT
DTEND:20260826T210000EEST
DTSTAMP:20260421T142750Z
ORGANIZER;CN="Helsingin seudun kesäyliopisto":MAILTO:info@hsky.fi
DTSTART:20260826T170000EEST
SUMMARY:Swedish 7 (1 op)
UID:20260826T170000EEST-22626@opistopalvelut.fi
END:VEVENT
BEGIN:VEVENT
DTEND:20260827T210000EEST
DTSTAMP:20260421T142750Z
ORGANIZER;CN="Helsingin seudun kesäyliopisto":MAILTO:info@hsky.fi
DTSTART:20260827T170000EEST
SUMMARY:Swedish 7 (1 op)
UID:20260827T170000EEST-22626@opistopalvelut.fi
END:VEVENT
BEGIN:VEVENT
DTEND:20260831T210000EEST
DTSTAMP:20260421T142750Z
ORGANIZER;CN="Helsingin seudun kesäyliopisto":MAILTO:info@hsky.fi
DTSTART:20260831T170000EEST
SUMMARY:Swedish 7 (1 op)
UID:20260831T170000EEST-22626@opistopalvelut.fi
END:VEVENT
BEGIN:VEVENT
DTEND:20260901T210000EEST
DTSTAMP:20260421T142750Z
ORGANIZER;CN="Helsingin seudun kesäyliopisto":MAILTO:info@hsky.fi
DTSTART:20260901T170000EEST
SUMMARY:Swedish 7 (1 op)
UID:20260901T170000EEST-22626@opistopalvelut.fi
END:VEVENT
END:VCALENDAR
