BEGIN:VCALENDAR
VERSION:2.0
PRODID:-//Microsoft Corporation//Outlook 15.0 MIMEDIR//EN
METHOD:PUBLISH
BEGIN:VEVENT
DTEND:20260727T210000EEST
DTSTAMP:20260423T113900Z
ORGANIZER;CN="Helsingin seudun kesäyliopisto":MAILTO:info@hsky.fi
DTSTART:20260727T170000EEST
SUMMARY:Swedish 5 (1 op)
UID:20260727T170000EEST-22624@opistopalvelut.fi
END:VEVENT
BEGIN:VEVENT
DTEND:20260728T210000EEST
DTSTAMP:20260423T113900Z
ORGANIZER;CN="Helsingin seudun kesäyliopisto":MAILTO:info@hsky.fi
DTSTART:20260728T170000EEST
SUMMARY:Swedish 5 (1 op)
UID:20260728T170000EEST-22624@opistopalvelut.fi
END:VEVENT
BEGIN:VEVENT
DTEND:20260729T210000EEST
DTSTAMP:20260423T113900Z
ORGANIZER;CN="Helsingin seudun kesäyliopisto":MAILTO:info@hsky.fi
DTSTART:20260729T170000EEST
SUMMARY:Swedish 5 (1 op)
UID:20260729T170000EEST-22624@opistopalvelut.fi
END:VEVENT
BEGIN:VEVENT
DTEND:20260730T210000EEST
DTSTAMP:20260423T113900Z
ORGANIZER;CN="Helsingin seudun kesäyliopisto":MAILTO:info@hsky.fi
DTSTART:20260730T170000EEST
SUMMARY:Swedish 5 (1 op)
UID:20260730T170000EEST-22624@opistopalvelut.fi
END:VEVENT
BEGIN:VEVENT
DTEND:20260803T210000EEST
DTSTAMP:20260423T113900Z
ORGANIZER;CN="Helsingin seudun kesäyliopisto":MAILTO:info@hsky.fi
DTSTART:20260803T170000EEST
SUMMARY:Swedish 5 (1 op)
UID:20260803T170000EEST-22624@opistopalvelut.fi
END:VEVENT
BEGIN:VEVENT
DTEND:20260804T210000EEST
DTSTAMP:20260423T113900Z
ORGANIZER;CN="Helsingin seudun kesäyliopisto":MAILTO:info@hsky.fi
DTSTART:20260804T170000EEST
SUMMARY:Swedish 5 (1 op)
UID:20260804T170000EEST-22624@opistopalvelut.fi
END:VEVENT
END:VCALENDAR
