BEGIN:VCALENDAR
VERSION:2.0
PRODID:-//Microsoft Corporation//Outlook 15.0 MIMEDIR//EN
METHOD:PUBLISH
BEGIN:VEVENT
DTEND:20260414T204500EEST
DTSTAMP:20260421T150444Z
ORGANIZER;CN="Helsingin seudun kesäyliopisto":MAILTO:info@hsky.fi
DTSTART:20260414T164500EEST
SUMMARY:Swedish 1, group A (1 op)
UID:20260414T164500EEST-22623@opistopalvelut.fi
END:VEVENT
BEGIN:VEVENT
DTEND:20260416T204500EEST
DTSTAMP:20260421T150444Z
ORGANIZER;CN="Helsingin seudun kesäyliopisto":MAILTO:info@hsky.fi
DTSTART:20260416T164500EEST
SUMMARY:Swedish 1, group A (1 op)
UID:20260416T164500EEST-22623@opistopalvelut.fi
END:VEVENT
BEGIN:VEVENT
DTEND:20260420T204500EEST
DTSTAMP:20260421T150444Z
ORGANIZER;CN="Helsingin seudun kesäyliopisto":MAILTO:info@hsky.fi
DTSTART:20260420T164500EEST
SUMMARY:Swedish 1, group A (1 op)
UID:20260420T164500EEST-22623@opistopalvelut.fi
END:VEVENT
BEGIN:VEVENT
DTEND:20260421T204500EEST
DTSTAMP:20260421T150444Z
ORGANIZER;CN="Helsingin seudun kesäyliopisto":MAILTO:info@hsky.fi
DTSTART:20260421T164500EEST
SUMMARY:Swedish 1, group A (1 op)
UID:20260421T164500EEST-22623@opistopalvelut.fi
END:VEVENT
BEGIN:VEVENT
DTEND:20260422T204500EEST
DTSTAMP:20260421T150444Z
ORGANIZER;CN="Helsingin seudun kesäyliopisto":MAILTO:info@hsky.fi
DTSTART:20260422T164500EEST
SUMMARY:Swedish 1, group A (1 op)
UID:20260422T164500EEST-22623@opistopalvelut.fi
END:VEVENT
BEGIN:VEVENT
DTEND:20260423T204500EEST
DTSTAMP:20260421T150444Z
ORGANIZER;CN="Helsingin seudun kesäyliopisto":MAILTO:info@hsky.fi
DTSTART:20260423T164500EEST
SUMMARY:Swedish 1, group A (1 op)
UID:20260423T164500EEST-22623@opistopalvelut.fi
END:VEVENT
END:VCALENDAR
