BEGIN:VCALENDAR
VERSION:2.0
PRODID:-//Microsoft Corporation//Outlook 15.0 MIMEDIR//EN
METHOD:PUBLISH
BEGIN:VEVENT
DTEND:20260629T204500EEST
DTSTAMP:20260421T162553Z
ORGANIZER;CN="Helsingin seudun kesäyliopisto":MAILTO:info@hsky.fi
DTSTART:20260629T164500EEST
SUMMARY:Swedish 4 (1 op)
UID:20260629T164500EEST-22621@opistopalvelut.fi
END:VEVENT
BEGIN:VEVENT
DTEND:20260630T204500EEST
DTSTAMP:20260421T162553Z
ORGANIZER;CN="Helsingin seudun kesäyliopisto":MAILTO:info@hsky.fi
DTSTART:20260630T164500EEST
SUMMARY:Swedish 4 (1 op)
UID:20260630T164500EEST-22621@opistopalvelut.fi
END:VEVENT
BEGIN:VEVENT
DTEND:20260701T204500EEST
DTSTAMP:20260421T162553Z
ORGANIZER;CN="Helsingin seudun kesäyliopisto":MAILTO:info@hsky.fi
DTSTART:20260701T164500EEST
SUMMARY:Swedish 4 (1 op)
UID:20260701T164500EEST-22621@opistopalvelut.fi
END:VEVENT
BEGIN:VEVENT
DTEND:20260706T204500EEST
DTSTAMP:20260421T162553Z
ORGANIZER;CN="Helsingin seudun kesäyliopisto":MAILTO:info@hsky.fi
DTSTART:20260706T164500EEST
SUMMARY:Swedish 4 (1 op)
UID:20260706T164500EEST-22621@opistopalvelut.fi
END:VEVENT
BEGIN:VEVENT
DTEND:20260707T204500EEST
DTSTAMP:20260421T162553Z
ORGANIZER;CN="Helsingin seudun kesäyliopisto":MAILTO:info@hsky.fi
DTSTART:20260707T164500EEST
SUMMARY:Swedish 4 (1 op)
UID:20260707T164500EEST-22621@opistopalvelut.fi
END:VEVENT
BEGIN:VEVENT
DTEND:20260708T204500EEST
DTSTAMP:20260421T162553Z
ORGANIZER;CN="Helsingin seudun kesäyliopisto":MAILTO:info@hsky.fi
DTSTART:20260708T164500EEST
SUMMARY:Swedish 4 (1 op)
UID:20260708T164500EEST-22621@opistopalvelut.fi
END:VEVENT
END:VCALENDAR
