BEGIN:VCALENDAR
VERSION:2.0
PRODID:-//Microsoft Corporation//Outlook 15.0 MIMEDIR//EN
METHOD:PUBLISH
BEGIN:VEVENT
DTEND:20260427T204500EEST
DTSTAMP:20260421T160554Z
ORGANIZER;CN="Helsingin seudun kesäyliopisto":MAILTO:info@hsky.fi
DTSTART:20260427T164500EEST
SUMMARY:Swedish 2, group A (1 op)
UID:20260427T164500EEST-22620@opistopalvelut.fi
END:VEVENT
BEGIN:VEVENT
DTEND:20260428T204500EEST
DTSTAMP:20260421T160554Z
ORGANIZER;CN="Helsingin seudun kesäyliopisto":MAILTO:info@hsky.fi
DTSTART:20260428T164500EEST
SUMMARY:Swedish 2, group A (1 op)
UID:20260428T164500EEST-22620@opistopalvelut.fi
END:VEVENT
BEGIN:VEVENT
DTEND:20260429T204500EEST
DTSTAMP:20260421T160554Z
ORGANIZER;CN="Helsingin seudun kesäyliopisto":MAILTO:info@hsky.fi
DTSTART:20260429T164500EEST
SUMMARY:Swedish 2, group A (1 op)
UID:20260429T164500EEST-22620@opistopalvelut.fi
END:VEVENT
BEGIN:VEVENT
DTEND:20260504T204500EEST
DTSTAMP:20260421T160554Z
ORGANIZER;CN="Helsingin seudun kesäyliopisto":MAILTO:info@hsky.fi
DTSTART:20260504T164500EEST
SUMMARY:Swedish 2, group A (1 op)
UID:20260504T164500EEST-22620@opistopalvelut.fi
END:VEVENT
BEGIN:VEVENT
DTEND:20260505T204500EEST
DTSTAMP:20260421T160554Z
ORGANIZER;CN="Helsingin seudun kesäyliopisto":MAILTO:info@hsky.fi
DTSTART:20260505T164500EEST
SUMMARY:Swedish 2, group A (1 op)
UID:20260505T164500EEST-22620@opistopalvelut.fi
END:VEVENT
BEGIN:VEVENT
DTEND:20260506T204500EEST
DTSTAMP:20260421T160554Z
ORGANIZER;CN="Helsingin seudun kesäyliopisto":MAILTO:info@hsky.fi
DTSTART:20260506T164500EEST
SUMMARY:Swedish 2, group A (1 op)
UID:20260506T164500EEST-22620@opistopalvelut.fi
END:VEVENT
END:VCALENDAR
