BEGIN:VCALENDAR
VERSION:2.0
PRODID:-//Microsoft Corporation//Outlook 15.0 MIMEDIR//EN
METHOD:PUBLISH
BEGIN:VEVENT
DTEND:20260803T141500EEST
DTSTAMP:20260421T201108Z
ORGANIZER;CN="Helsingin seudun kesäyliopisto":MAILTO:info@hsky.fi
DTSTART:20260803T100000EEST
SUMMARY:Activate your Swedish – Aktivera din svenska med prat, program och musik
UID:20260803T100000EEST-22618@opistopalvelut.fi
END:VEVENT
BEGIN:VEVENT
DTEND:20260804T141500EEST
DTSTAMP:20260421T201108Z
ORGANIZER;CN="Helsingin seudun kesäyliopisto":MAILTO:info@hsky.fi
DTSTART:20260804T100000EEST
SUMMARY:Activate your Swedish – Aktivera din svenska med prat, program och musik
UID:20260804T100000EEST-22618@opistopalvelut.fi
END:VEVENT
BEGIN:VEVENT
DTEND:20260805T141500EEST
DTSTAMP:20260421T201108Z
ORGANIZER;CN="Helsingin seudun kesäyliopisto":MAILTO:info@hsky.fi
DTSTART:20260805T100000EEST
SUMMARY:Activate your Swedish – Aktivera din svenska med prat, program och musik
UID:20260805T100000EEST-22618@opistopalvelut.fi
END:VEVENT
BEGIN:VEVENT
DTEND:20260806T141500EEST
DTSTAMP:20260421T201108Z
ORGANIZER;CN="Helsingin seudun kesäyliopisto":MAILTO:info@hsky.fi
DTSTART:20260806T100000EEST
SUMMARY:Activate your Swedish – Aktivera din svenska med prat, program och musik
UID:20260806T100000EEST-22618@opistopalvelut.fi
END:VEVENT
BEGIN:VEVENT
DTEND:20260807T141500EEST
DTSTAMP:20260421T201108Z
ORGANIZER;CN="Helsingin seudun kesäyliopisto":MAILTO:info@hsky.fi
DTSTART:20260807T100000EEST
SUMMARY:Activate your Swedish – Aktivera din svenska med prat, program och musik
UID:20260807T100000EEST-22618@opistopalvelut.fi
END:VEVENT
END:VCALENDAR
