BEGIN:VCALENDAR
VERSION:2.0
PRODID:-//Microsoft Corporation//Outlook 15.0 MIMEDIR//EN
METHOD:PUBLISH
BEGIN:VEVENT
DTEND:20260511T204500EEST
DTSTAMP:20260421T171534Z
ORGANIZER;CN="Helsingin seudun kesäyliopisto":MAILTO:info@hsky.fi
DTSTART:20260511T164500EEST
SUMMARY:Swedish 1, group B (1 op)
UID:20260511T164500EEST-22617@opistopalvelut.fi
END:VEVENT
BEGIN:VEVENT
DTEND:20260512T204500EEST
DTSTAMP:20260421T171534Z
ORGANIZER;CN="Helsingin seudun kesäyliopisto":MAILTO:info@hsky.fi
DTSTART:20260512T164500EEST
SUMMARY:Swedish 1, group B (1 op)
UID:20260512T164500EEST-22617@opistopalvelut.fi
END:VEVENT
BEGIN:VEVENT
DTEND:20260513T204500EEST
DTSTAMP:20260421T171534Z
ORGANIZER;CN="Helsingin seudun kesäyliopisto":MAILTO:info@hsky.fi
DTSTART:20260513T164500EEST
SUMMARY:Swedish 1, group B (1 op)
UID:20260513T164500EEST-22617@opistopalvelut.fi
END:VEVENT
BEGIN:VEVENT
DTEND:20260518T204500EEST
DTSTAMP:20260421T171534Z
ORGANIZER;CN="Helsingin seudun kesäyliopisto":MAILTO:info@hsky.fi
DTSTART:20260518T164500EEST
SUMMARY:Swedish 1, group B (1 op)
UID:20260518T164500EEST-22617@opistopalvelut.fi
END:VEVENT
BEGIN:VEVENT
DTEND:20260519T204500EEST
DTSTAMP:20260421T171534Z
ORGANIZER;CN="Helsingin seudun kesäyliopisto":MAILTO:info@hsky.fi
DTSTART:20260519T164500EEST
SUMMARY:Swedish 1, group B (1 op)
UID:20260519T164500EEST-22617@opistopalvelut.fi
END:VEVENT
BEGIN:VEVENT
DTEND:20260520T204500EEST
DTSTAMP:20260421T171534Z
ORGANIZER;CN="Helsingin seudun kesäyliopisto":MAILTO:info@hsky.fi
DTSTART:20260520T164500EEST
SUMMARY:Swedish 1, group B (1 op)
UID:20260520T164500EEST-22617@opistopalvelut.fi
END:VEVENT
END:VCALENDAR
