BEGIN:VCALENDAR
VERSION:2.0
PRODID:-//Microsoft Corporation//Outlook 15.0 MIMEDIR//EN
METHOD:PUBLISH
BEGIN:VEVENT
DTEND:20260302T210000EET
DTSTAMP:20260421T131640Z
ORGANIZER;CN="Helsingin seudun kesäyliopisto":MAILTO:info@hsky.fi
DTSTART:20260302T171500EET
SUMMARY:Suomea intensiivisesti 8 ryhmä A (B1.2−B2.2)
UID:20260302T171500EET-22598@opistopalvelut.fi
END:VEVENT
BEGIN:VEVENT
DTEND:20260305T210000EET
DTSTAMP:20260421T131640Z
ORGANIZER;CN="Helsingin seudun kesäyliopisto":MAILTO:info@hsky.fi
DTSTART:20260305T171500EET
SUMMARY:Suomea intensiivisesti 8 ryhmä A (B1.2−B2.2)
UID:20260305T171500EET-22598@opistopalvelut.fi
END:VEVENT
BEGIN:VEVENT
DTEND:20260307T130000EET
DTSTAMP:20260421T131640Z
ORGANIZER;CN="Helsingin seudun kesäyliopisto":MAILTO:info@hsky.fi
DTSTART:20260307T091500EET
SUMMARY:Suomea intensiivisesti 8 ryhmä A (B1.2−B2.2)
UID:20260307T091500EET-22598@opistopalvelut.fi
END:VEVENT
BEGIN:VEVENT
DTEND:20260309T210000EET
DTSTAMP:20260421T131640Z
ORGANIZER;CN="Helsingin seudun kesäyliopisto":MAILTO:info@hsky.fi
DTSTART:20260309T171500EET
SUMMARY:Suomea intensiivisesti 8 ryhmä A (B1.2−B2.2)
UID:20260309T171500EET-22598@opistopalvelut.fi
END:VEVENT
BEGIN:VEVENT
DTEND:20260312T210000EET
DTSTAMP:20260421T131640Z
ORGANIZER;CN="Helsingin seudun kesäyliopisto":MAILTO:info@hsky.fi
DTSTART:20260312T171500EET
SUMMARY:Suomea intensiivisesti 8 ryhmä A (B1.2−B2.2)
UID:20260312T171500EET-22598@opistopalvelut.fi
END:VEVENT
BEGIN:VEVENT
DTEND:20260314T130000EET
DTSTAMP:20260421T131640Z
ORGANIZER;CN="Helsingin seudun kesäyliopisto":MAILTO:info@hsky.fi
DTSTART:20260314T091500EET
SUMMARY:Suomea intensiivisesti 8 ryhmä A (B1.2−B2.2)
UID:20260314T091500EET-22598@opistopalvelut.fi
END:VEVENT
BEGIN:VEVENT
DTEND:20260316T210000EET
DTSTAMP:20260421T131640Z
ORGANIZER;CN="Helsingin seudun kesäyliopisto":MAILTO:info@hsky.fi
DTSTART:20260316T171500EET
SUMMARY:Suomea intensiivisesti 8 ryhmä A (B1.2−B2.2)
UID:20260316T171500EET-22598@opistopalvelut.fi
END:VEVENT
BEGIN:VEVENT
DTEND:20260319T210000EET
DTSTAMP:20260421T131640Z
ORGANIZER;CN="Helsingin seudun kesäyliopisto":MAILTO:info@hsky.fi
DTSTART:20260319T171500EET
SUMMARY:Suomea intensiivisesti 8 ryhmä A (B1.2−B2.2)
UID:20260319T171500EET-22598@opistopalvelut.fi
END:VEVENT
BEGIN:VEVENT
DTEND:20260321T130000EET
DTSTAMP:20260421T131640Z
ORGANIZER;CN="Helsingin seudun kesäyliopisto":MAILTO:info@hsky.fi
DTSTART:20260321T091500EET
SUMMARY:Suomea intensiivisesti 8 ryhmä A (B1.2−B2.2)
UID:20260321T091500EET-22598@opistopalvelut.fi
END:VEVENT
BEGIN:VEVENT
DTEND:20260323T210000EET
DTSTAMP:20260421T131640Z
ORGANIZER;CN="Helsingin seudun kesäyliopisto":MAILTO:info@hsky.fi
DTSTART:20260323T171500EET
SUMMARY:Suomea intensiivisesti 8 ryhmä A (B1.2−B2.2)
UID:20260323T171500EET-22598@opistopalvelut.fi
END:VEVENT
BEGIN:VEVENT
DTEND:20260326T210000EET
DTSTAMP:20260421T131640Z
ORGANIZER;CN="Helsingin seudun kesäyliopisto":MAILTO:info@hsky.fi
DTSTART:20260326T171500EET
SUMMARY:Suomea intensiivisesti 8 ryhmä A (B1.2−B2.2)
UID:20260326T171500EET-22598@opistopalvelut.fi
END:VEVENT
BEGIN:VEVENT
DTEND:20260328T130000EET
DTSTAMP:20260421T131640Z
ORGANIZER;CN="Helsingin seudun kesäyliopisto":MAILTO:info@hsky.fi
DTSTART:20260328T091500EET
SUMMARY:Suomea intensiivisesti 8 ryhmä A (B1.2−B2.2)
UID:20260328T091500EET-22598@opistopalvelut.fi
END:VEVENT
END:VCALENDAR
