BEGIN:VCALENDAR
VERSION:2.0
PRODID:-//Microsoft Corporation//Outlook 15.0 MIMEDIR//EN
METHOD:PUBLISH
BEGIN:VEVENT
DTEND:20260602T123000EEST
DTSTAMP:20260421T081653Z
ORGANIZER;CN="Helsingin seudun kesäyliopisto":MAILTO:info@hsky.fi
DTSTART:20260602T090000EEST
SUMMARY:Englannin abikurssi, ryhmä A (2 op)
UID:20260602T090000EEST-22515@opistopalvelut.fi
END:VEVENT
BEGIN:VEVENT
DTEND:20260603T123000EEST
DTSTAMP:20260421T081653Z
ORGANIZER;CN="Helsingin seudun kesäyliopisto":MAILTO:info@hsky.fi
DTSTART:20260603T090000EEST
SUMMARY:Englannin abikurssi, ryhmä A (2 op)
UID:20260603T090000EEST-22515@opistopalvelut.fi
END:VEVENT
BEGIN:VEVENT
DTEND:20260604T123000EEST
DTSTAMP:20260421T081653Z
ORGANIZER;CN="Helsingin seudun kesäyliopisto":MAILTO:info@hsky.fi
DTSTART:20260604T090000EEST
SUMMARY:Englannin abikurssi, ryhmä A (2 op)
UID:20260604T090000EEST-22515@opistopalvelut.fi
END:VEVENT
BEGIN:VEVENT
DTEND:20260605T123000EEST
DTSTAMP:20260421T081653Z
ORGANIZER;CN="Helsingin seudun kesäyliopisto":MAILTO:info@hsky.fi
DTSTART:20260605T090000EEST
SUMMARY:Englannin abikurssi, ryhmä A (2 op)
UID:20260605T090000EEST-22515@opistopalvelut.fi
END:VEVENT
BEGIN:VEVENT
DTEND:20260608T123000EEST
DTSTAMP:20260421T081653Z
ORGANIZER;CN="Helsingin seudun kesäyliopisto":MAILTO:info@hsky.fi
DTSTART:20260608T090000EEST
SUMMARY:Englannin abikurssi, ryhmä A (2 op)
UID:20260608T090000EEST-22515@opistopalvelut.fi
END:VEVENT
BEGIN:VEVENT
DTEND:20260609T123000EEST
DTSTAMP:20260421T081653Z
ORGANIZER;CN="Helsingin seudun kesäyliopisto":MAILTO:info@hsky.fi
DTSTART:20260609T090000EEST
SUMMARY:Englannin abikurssi, ryhmä A (2 op)
UID:20260609T090000EEST-22515@opistopalvelut.fi
END:VEVENT
BEGIN:VEVENT
DTEND:20260610T123000EEST
DTSTAMP:20260421T081653Z
ORGANIZER;CN="Helsingin seudun kesäyliopisto":MAILTO:info@hsky.fi
DTSTART:20260610T090000EEST
SUMMARY:Englannin abikurssi, ryhmä A (2 op)
UID:20260610T090000EEST-22515@opistopalvelut.fi
END:VEVENT
BEGIN:VEVENT
DTEND:20260611T123000EEST
DTSTAMP:20260421T081653Z
ORGANIZER;CN="Helsingin seudun kesäyliopisto":MAILTO:info@hsky.fi
DTSTART:20260611T090000EEST
SUMMARY:Englannin abikurssi, ryhmä A (2 op)
UID:20260611T090000EEST-22515@opistopalvelut.fi
END:VEVENT
BEGIN:VEVENT
DTEND:20260612T123000EEST
DTSTAMP:20260421T081653Z
ORGANIZER;CN="Helsingin seudun kesäyliopisto":MAILTO:info@hsky.fi
DTSTART:20260612T090000EEST
SUMMARY:Englannin abikurssi, ryhmä A (2 op)
UID:20260612T090000EEST-22515@opistopalvelut.fi
END:VEVENT
END:VCALENDAR
