BEGIN:VCALENDAR
VERSION:2.0
PRODID:-//Microsoft Corporation//Outlook 15.0 MIMEDIR//EN
METHOD:PUBLISH
BEGIN:VEVENT
DTEND:20260119T194500EET
DTSTAMP:20260421T131924Z
ORGANIZER;CN="Helsingin seudun kesäyliopisto":MAILTO:info@hsky.fi
DTSTART:20260119T163000EET
SUMMARY:Ranskan jatkokurssi 1, ryhmä A, 4 op
UID:20260119T163000EET-22413@opistopalvelut.fi
END:VEVENT
BEGIN:VEVENT
DTEND:20260121T194500EET
DTSTAMP:20260421T131924Z
ORGANIZER;CN="Helsingin seudun kesäyliopisto":MAILTO:info@hsky.fi
DTSTART:20260121T163000EET
SUMMARY:Ranskan jatkokurssi 1, ryhmä A, 4 op
UID:20260121T163000EET-22413@opistopalvelut.fi
END:VEVENT
BEGIN:VEVENT
DTEND:20260126T194500EET
DTSTAMP:20260421T131924Z
ORGANIZER;CN="Helsingin seudun kesäyliopisto":MAILTO:info@hsky.fi
DTSTART:20260126T163000EET
SUMMARY:Ranskan jatkokurssi 1, ryhmä A, 4 op
UID:20260126T163000EET-22413@opistopalvelut.fi
END:VEVENT
BEGIN:VEVENT
DTEND:20260128T194500EET
DTSTAMP:20260421T131924Z
ORGANIZER;CN="Helsingin seudun kesäyliopisto":MAILTO:info@hsky.fi
DTSTART:20260128T163000EET
SUMMARY:Ranskan jatkokurssi 1, ryhmä A, 4 op
UID:20260128T163000EET-22413@opistopalvelut.fi
END:VEVENT
BEGIN:VEVENT
DTEND:20260202T194500EET
DTSTAMP:20260421T131924Z
ORGANIZER;CN="Helsingin seudun kesäyliopisto":MAILTO:info@hsky.fi
DTSTART:20260202T163000EET
SUMMARY:Ranskan jatkokurssi 1, ryhmä A, 4 op
UID:20260202T163000EET-22413@opistopalvelut.fi
END:VEVENT
BEGIN:VEVENT
DTEND:20260204T194500EET
DTSTAMP:20260421T131924Z
ORGANIZER;CN="Helsingin seudun kesäyliopisto":MAILTO:info@hsky.fi
DTSTART:20260204T163000EET
SUMMARY:Ranskan jatkokurssi 1, ryhmä A, 4 op
UID:20260204T163000EET-22413@opistopalvelut.fi
END:VEVENT
BEGIN:VEVENT
DTEND:20260209T194500EET
DTSTAMP:20260421T131924Z
ORGANIZER;CN="Helsingin seudun kesäyliopisto":MAILTO:info@hsky.fi
DTSTART:20260209T163000EET
SUMMARY:Ranskan jatkokurssi 1, ryhmä A, 4 op
UID:20260209T163000EET-22413@opistopalvelut.fi
END:VEVENT
BEGIN:VEVENT
DTEND:20260211T194500EET
DTSTAMP:20260421T131924Z
ORGANIZER;CN="Helsingin seudun kesäyliopisto":MAILTO:info@hsky.fi
DTSTART:20260211T163000EET
SUMMARY:Ranskan jatkokurssi 1, ryhmä A, 4 op
UID:20260211T163000EET-22413@opistopalvelut.fi
END:VEVENT
BEGIN:VEVENT
DTEND:20260223T194500EET
DTSTAMP:20260421T131924Z
ORGANIZER;CN="Helsingin seudun kesäyliopisto":MAILTO:info@hsky.fi
DTSTART:20260223T163000EET
SUMMARY:Ranskan jatkokurssi 1, ryhmä A, 4 op
UID:20260223T163000EET-22413@opistopalvelut.fi
END:VEVENT
BEGIN:VEVENT
DTEND:20260225T194500EET
DTSTAMP:20260421T131924Z
ORGANIZER;CN="Helsingin seudun kesäyliopisto":MAILTO:info@hsky.fi
DTSTART:20260225T163000EET
SUMMARY:Ranskan jatkokurssi 1, ryhmä A, 4 op
UID:20260225T163000EET-22413@opistopalvelut.fi
END:VEVENT
BEGIN:VEVENT
DTEND:20260302T194500EET
DTSTAMP:20260421T131924Z
ORGANIZER;CN="Helsingin seudun kesäyliopisto":MAILTO:info@hsky.fi
DTSTART:20260302T163000EET
SUMMARY:Ranskan jatkokurssi 1, ryhmä A, 4 op
UID:20260302T163000EET-22413@opistopalvelut.fi
END:VEVENT
BEGIN:VEVENT
DTEND:20260304T180000EET
DTSTAMP:20260421T131924Z
ORGANIZER;CN="Helsingin seudun kesäyliopisto":MAILTO:info@hsky.fi
DTSTART:20260304T163000EET
SUMMARY:Ranskan jatkokurssi 1, ryhmä A, 4 op
UID:20260304T163000EET-22413@opistopalvelut.fi
END:VEVENT
BEGIN:VEVENT
DTEND:20260309T180000EET
DTSTAMP:20260421T131924Z
ORGANIZER;CN="Helsingin seudun kesäyliopisto":MAILTO:info@hsky.fi
DTSTART:20260309T163000EET
SUMMARY:Ranskan jatkokurssi 1, ryhmä A, 4 op
UID:20260309T163000EET-22413@opistopalvelut.fi
END:VEVENT
END:VCALENDAR
