BEGIN:VCALENDAR
VERSION:2.0
PRODID:-//Microsoft Corporation//Outlook 15.0 MIMEDIR//EN
METHOD:PUBLISH
BEGIN:VEVENT
DTEND:20250804T190000EEST
DTSTAMP:20260421T115041Z
ORGANIZER;CN="Helsingin seudun kesäyliopisto":MAILTO:info@hsky.fi
DTSTART:20250804T163000EEST
SUMMARY:Pohjoissaamen alkeiskurssi 2
UID:20250804T163000EEST-22016@opistopalvelut.fi
END:VEVENT
BEGIN:VEVENT
DTEND:20250811T190000EEST
DTSTAMP:20260421T115041Z
ORGANIZER;CN="Helsingin seudun kesäyliopisto":MAILTO:info@hsky.fi
DTSTART:20250811T163000EEST
SUMMARY:Pohjoissaamen alkeiskurssi 2
UID:20250811T163000EEST-22016@opistopalvelut.fi
END:VEVENT
BEGIN:VEVENT
DTEND:20250818T190000EEST
DTSTAMP:20260421T115041Z
ORGANIZER;CN="Helsingin seudun kesäyliopisto":MAILTO:info@hsky.fi
DTSTART:20250818T163000EEST
SUMMARY:Pohjoissaamen alkeiskurssi 2
UID:20250818T163000EEST-22016@opistopalvelut.fi
END:VEVENT
BEGIN:VEVENT
DTEND:20250825T190000EEST
DTSTAMP:20260421T115041Z
ORGANIZER;CN="Helsingin seudun kesäyliopisto":MAILTO:info@hsky.fi
DTSTART:20250825T163000EEST
SUMMARY:Pohjoissaamen alkeiskurssi 2
UID:20250825T163000EEST-22016@opistopalvelut.fi
END:VEVENT
BEGIN:VEVENT
DTEND:20250901T190000EEST
DTSTAMP:20260421T115041Z
ORGANIZER;CN="Helsingin seudun kesäyliopisto":MAILTO:info@hsky.fi
DTSTART:20250901T163000EEST
SUMMARY:Pohjoissaamen alkeiskurssi 2
UID:20250901T163000EEST-22016@opistopalvelut.fi
END:VEVENT
BEGIN:VEVENT
DTEND:20250915T190000EEST
DTSTAMP:20260421T115041Z
ORGANIZER;CN="Helsingin seudun kesäyliopisto":MAILTO:info@hsky.fi
DTSTART:20250915T163000EEST
SUMMARY:Pohjoissaamen alkeiskurssi 2
UID:20250915T163000EEST-22016@opistopalvelut.fi
END:VEVENT
BEGIN:VEVENT
DTEND:20250922T190000EEST
DTSTAMP:20260421T115041Z
ORGANIZER;CN="Helsingin seudun kesäyliopisto":MAILTO:info@hsky.fi
DTSTART:20250922T163000EEST
SUMMARY:Pohjoissaamen alkeiskurssi 2
UID:20250922T163000EEST-22016@opistopalvelut.fi
END:VEVENT
END:VCALENDAR
