BEGIN:VCALENDAR
VERSION:2.0
PRODID:-//Microsoft Corporation//Outlook 15.0 MIMEDIR//EN
METHOD:PUBLISH
BEGIN:VEVENT
DTEND:20241001T193000EEST
DTSTAMP:20260419T160948Z
ORGANIZER;CN="Helsingin seudun kesäyliopisto":MAILTO:info@hsky.fi
DTSTART:20241001T170000EEST
SUMMARY:ChatGPT Bootcamp opetus- ja luovien alojen ammattilaisille
UID:20241001T170000EEST-21655@opistopalvelut.fi
END:VEVENT
BEGIN:VEVENT
DTEND:20241008T193000EEST
DTSTAMP:20260419T160948Z
ORGANIZER;CN="Helsingin seudun kesäyliopisto":MAILTO:info@hsky.fi
DTSTART:20241008T170000EEST
SUMMARY:ChatGPT Bootcamp opetus- ja luovien alojen ammattilaisille
UID:20241008T170000EEST-21655@opistopalvelut.fi
END:VEVENT
BEGIN:VEVENT
DTEND:20241022T193000EEST
DTSTAMP:20260419T160948Z
ORGANIZER;CN="Helsingin seudun kesäyliopisto":MAILTO:info@hsky.fi
DTSTART:20241022T170000EEST
SUMMARY:ChatGPT Bootcamp opetus- ja luovien alojen ammattilaisille
UID:20241022T170000EEST-21655@opistopalvelut.fi
END:VEVENT
BEGIN:VEVENT
DTEND:20241029T193000EET
DTSTAMP:20260419T160948Z
ORGANIZER;CN="Helsingin seudun kesäyliopisto":MAILTO:info@hsky.fi
DTSTART:20241029T170000EET
SUMMARY:ChatGPT Bootcamp opetus- ja luovien alojen ammattilaisille
UID:20241029T170000EET-21655@opistopalvelut.fi
END:VEVENT
END:VCALENDAR
